BEGIN:VCALENDAR
VERSION:2.0
PRODID:-//Scolio-Pilates - ECPv6.15.14//NONSGML v1.0//EN
CALSCALE:GREGORIAN
METHOD:PUBLISH
X-ORIGINAL-URL:https://osteopilates.com
X-WR-CALDESC:Events for Scolio-Pilates
REFRESH-INTERVAL;VALUE=DURATION:PT1H
X-Robots-Tag:noindex
X-PUBLISHED-TTL:PT1H
BEGIN:VTIMEZONE
TZID:America/New_York
BEGIN:DAYLIGHT
TZOFFSETFROM:-0500
TZOFFSETTO:-0400
TZNAME:EDT
DTSTART:20250309T070000
END:DAYLIGHT
BEGIN:STANDARD
TZOFFSETFROM:-0400
TZOFFSETTO:-0500
TZNAME:EST
DTSTART:20251102T060000
END:STANDARD
BEGIN:DAYLIGHT
TZOFFSETFROM:-0500
TZOFFSETTO:-0400
TZNAME:EDT
DTSTART:20260308T070000
END:DAYLIGHT
BEGIN:STANDARD
TZOFFSETFROM:-0400
TZOFFSETTO:-0500
TZNAME:EST
DTSTART:20261101T060000
END:STANDARD
BEGIN:DAYLIGHT
TZOFFSETFROM:-0500
TZOFFSETTO:-0400
TZNAME:EDT
DTSTART:20270314T070000
END:DAYLIGHT
BEGIN:STANDARD
TZOFFSETFROM:-0400
TZOFFSETTO:-0500
TZNAME:EST
DTSTART:20271107T060000
END:STANDARD
END:VTIMEZONE
BEGIN:VTIMEZONE
TZID:Europe/Berlin
BEGIN:DAYLIGHT
TZOFFSETFROM:+0100
TZOFFSETTO:+0200
TZNAME:CEST
DTSTART:20250330T010000
END:DAYLIGHT
BEGIN:STANDARD
TZOFFSETFROM:+0200
TZOFFSETTO:+0100
TZNAME:CET
DTSTART:20251026T010000
END:STANDARD
BEGIN:DAYLIGHT
TZOFFSETFROM:+0100
TZOFFSETTO:+0200
TZNAME:CEST
DTSTART:20260329T010000
END:DAYLIGHT
BEGIN:STANDARD
TZOFFSETFROM:+0200
TZOFFSETTO:+0100
TZNAME:CET
DTSTART:20261025T010000
END:STANDARD
BEGIN:DAYLIGHT
TZOFFSETFROM:+0100
TZOFFSETTO:+0200
TZNAME:CEST
DTSTART:20270328T010000
END:DAYLIGHT
BEGIN:STANDARD
TZOFFSETFROM:+0200
TZOFFSETTO:+0100
TZNAME:CET
DTSTART:20271031T010000
END:STANDARD
END:VTIMEZONE
BEGIN:VTIMEZONE
TZID:Asia/Jakarta
BEGIN:STANDARD
TZOFFSETFROM:+0700
TZOFFSETTO:+0700
TZNAME:WIB
DTSTART:20250101T000000
END:STANDARD
END:VTIMEZONE
BEGIN:VTIMEZONE
TZID:Asia/Krasnoyarsk
BEGIN:STANDARD
TZOFFSETFROM:+0700
TZOFFSETTO:+0700
TZNAME:+07
DTSTART:20250101T000000
END:STANDARD
END:VTIMEZONE
BEGIN:VEVENT
DTSTART;TZID=America/New_York:20260608T130000
DTEND;TZID=America/New_York:20260611T150000
DTSTAMP:20260424T151953
CREATED:20251003T053255Z
LAST-MODIFIED:20260204T204540Z
UID:32513-1780923600-1781190000@osteopilates.com
SUMMARY:Módulo 1: En línea en español
DESCRIPTION:Bienvenido al Módulo 1 de Scolio-Pilates® (en español)\n  \nIMPARTIDO EN ESPAÑOL \n  \nOfrecemos las siguientes opciones de precio: \nSuper Earlybird: $240\nEarlybird desde el 8 de abril: $275\nPrecio completo desde el 8 de mayo: $295 \n  \nInstructoras: Karena Thek\, fundadora de Scolio-Pilates®\, y Montse Cosín\, Practicante autorizado(a) de Scolio-Pilates®\nUbicación: En línea por Zoom\nIdioma: Solo en español\nFechas: 8-11 de junio de 2026\nHorario: 1:00 p.m. – 3:00 p.m. cada día (en línea\, ET\, hora de Nueva York) \nEste curso es un bloque fundamental y sienta las bases para el Módulo 2 de Scolio-Pilates: El Seminario Profesional. \nRecibirás una sólida base en la anatomía de la escoliosis que te ayudará a comprender qué ocurre bajo la piel y cómo esto genera los cambios que observamos y experimentamos en la superficie y durante el movimiento. \nCon esta comprensión\, estarás mejor preparado(a) para elegir los ejercicios más adecuados y específicos para la escoliosis. \nTemas que se tratarán:\n• ¿Qué es la escoliosis? A quién afecta y cómo impacta en los sistemas del cuerpo\n• ¡Experimenta la escoliosis! Cómo se siente hacer Pilates con escoliosis\n• Comprensión anatómica de los cambios musculoesqueléticos que acompañan al síndrome de escoliosis\n• Diferencias entre escoliosis funcional y estructural\n• Definición de convexidades y concavidades\n• Teorías y leyes del movimiento que se aplican a la escoliosis\n• Los primeros 7 ejercicios para la escoliosis. Todos los ejercicios se enseñarán con y sin el equipamiento de Pilates. \nCréditos de educación continua (CECs):\n8 créditos de educación continua del National Pilates Certification Program (NPCP) \nMás información
URL:https://osteopilates.com/event/modulo-1-en-linea-en-espanol/
LOCATION:Online
CATEGORIES:Module 1,Online
ATTACH;FMTTYPE=image/jpeg:https://osteopilates.com/wp-content/uploads/2021/01/Site-identity-scaled.jpg
END:VEVENT
BEGIN:VEVENT
DTSTART;VALUE=DATE:20260611
DTEND;VALUE=DATE:20260612
DTSTAMP:20260424T151953
CREATED:20260126T210214Z
LAST-MODIFIED:20260401T232315Z
UID:32729-1781136000-1781222399@osteopilates.com
SUMMARY:Module 1: Zurich\, Switzerland
DESCRIPTION:Welcome To Scolio-Pilates Module 1\n  \n  \nInstructor: Julie Selwood\, Scolio-Pilates Principal Educator\nLocation: Zurich\, Switzerland\nDates: 11 June\, 2026 \n  \nTaught in English \nThis course is a building block and lays the foundation for the Scolio-Pilates Module 2: The Professional Seminar. You will receive a strong base in the anatomy of scoliosis to help you understand what is happening under the skin that creates the changes we see and experience with scoliosis on the surface and with movement. With this understanding\, you will be better equipped to make the best scoliosis-specific exercise choices. Topics to be covered include: \n\nWhat is scoliosis? Who it affects and its effects on the systems of the body\nExperience scoliosis! What it feels like to do Pilates with scoliosis\nAnatomical understanding of the musculoskeletal changes that accompany the scoliosis syndrome\nUnderstanding functional vs. structural scoliosis\nDefining the convexities and concavities\nTheories and laws of movement that apply to scoliosis\nThe first 7 exercises for scoliosis. All exercises will be taught with and without the Pilates equipment.\n\nCECs: 8 Continuing education credits from the National Pilates Certification Program (NPCP) \n 
URL:https://osteopilates.com/event/module-1-zurich-switzerland/
LOCATION:Fit&Fab Studio\, Freiestrasse 32\, 8800 Thalwil\, Zurich\, Switzerland
CATEGORIES:Module 1
ATTACH;FMTTYPE=image/jpeg:https://osteopilates.com/wp-content/uploads/2020/11/Scolio-Pilates-Europe.jpg
END:VEVENT
BEGIN:VEVENT
DTSTART;TZID=America/New_York:20260612T090000
DTEND;TZID=America/New_York:20260612T180000
DTSTAMP:20260424T151953
CREATED:20260126T201641Z
LAST-MODIFIED:20260126T201641Z
UID:38197-1781254800-1781287200@osteopilates.com
SUMMARY:Module 1: Surabaya\, Indonesia
DESCRIPTION:Welcome To Scolio-Pilates Module 1\n  \nInstructor: Tirta Hidajat\, Scolio-Pilates Principal Educator\nDate: 12 June 2026\nLocation: Surabaya\, Indonesia. \nThis course is a building block and lays the foundation for the Scolio-Pilates Module 2: The Professional Seminar. You will receive a strong base in the anatomy of scoliosis to help you understand what is happening under the skin that creates the changes we see and experience with scoliosis on the surface and with movement. With this understanding\, you will be better equipped to make the best scoliosis-specific exercise choices. Topics to be covered include: \n\nWhat is scoliosis? Who it affects and its effects on the systems of the body\nExperience scoliosis! What it feels like to do Pilates with scoliosis\nAnatomical understanding of the musculoskeletal changes that accompany the scoliosis syndrome\nUnderstanding functional vs. structural scoliosis\nDefining the convexities and concavities\nTheories and laws of movement that apply to scoliosis\nThe first 7 exercises for scoliosis. All exercises will be taught with and without the Pilates equipment.\n\n  \n 
URL:https://osteopilates.com/event/module-1-surabaya-indonesia-2/
LOCATION:Star Pilates Studio\, Jl. Barata Jaya XXI No.1 D\, Baratajaya\, Kec. Gubeng\, Surabaya\, Jawa Timur\, 60284\, Indonesia
CATEGORIES:Module 1
ATTACH;FMTTYPE=image/jpeg:https://osteopilates.com/wp-content/uploads/2024/02/firmpoint.jpeg
END:VEVENT
BEGIN:VEVENT
DTSTART;VALUE=DATE:20260613
DTEND;VALUE=DATE:20260615
DTSTAMP:20260424T151953
CREATED:20260126T210847Z
LAST-MODIFIED:20260401T232600Z
UID:38215-1781308800-1781481599@osteopilates.com
SUMMARY:Module 2: Zurich\, Switzerland
DESCRIPTION:Welcome To Scolio-Pilates Module 2\n  \n  \nInstructor: Julie Selwood\, Scolio-Pilates Principal Educator\nDates: 13-14 June 2026\nLocation: Zurich\, Switzerland \n  \nTaught in English \nModule 2 builds upon the pre-requisite Module 1\, Scolio-Pilates Professional Seminar. \nWe will dive deeper into understanding the anatomy of scoliosis and use that understanding to define the curves of scoliosis (3\, 4\, and thoracolumbar curves). Once we define the curves we can begin to understand how to correct those curves toward neutral. We use scoliosis-specific corrections and scoliosis-specific exercises to aid us in bringing our clients toward a more balanced system. \nThe scoliosis-specific exercises begin with corrections in the basic positions of prone\, supine\, side-lying\, seated\, and standing. Once the corrections are applied in the basic positions\, we add movement to these corrections either on the mat or with the assistance of the Pilates equipment. Come learn why Scolio-Pilates\, a form of Pilates that allows for modifications to assist the client with scoliosis in the Pilates studio\, is now being used by children’s hospitals\, physical therapy clinics\, and Pilates studios worldwide to help with the management of scoliosis. \nCECs: 16 Continuing education credits from the National Pilates Certification Program (NPCP) \n  \n 
URL:https://osteopilates.com/event/module-2-zurich-switzerland/
LOCATION:Fit&Fab Studio\, Freiestrasse 32\, 8800 Thalwil\, Zurich\, Switzerland
CATEGORIES:Module 2
ATTACH;FMTTYPE=image/jpeg:https://osteopilates.com/wp-content/uploads/2020/11/Scolio-Pilates-Europe.jpg
END:VEVENT
BEGIN:VEVENT
DTSTART;TZID=Asia/Jakarta:20260613T090000
DTEND;TZID=Asia/Jakarta:20260614T180000
DTSTAMP:20260424T151953
CREATED:20260126T202750Z
LAST-MODIFIED:20260126T202750Z
UID:38203-1781341200-1781460000@osteopilates.com
SUMMARY:Module 2: Surabaya\, Indonesia
DESCRIPTION:Welcome To Scolio-Pilates Module 2\n  \nInstructor: Tirta Hidajat\, Scolio-Pilates Principal Educator\nDates: 13-14 June 2026\nLocation: Surabaya\, Indonesia. \nModule 2 builds upon the pre-requisite Module 1\, Scolio-Pilates Professional Seminar. \nWe will dive deeper into understanding the anatomy of scoliosis and use that understanding to define the curves of scoliosis (3\, 4\, and thoracolumbar curves). Once we define the curves we can begin to understand how to correct those curves toward neutral. We use scoliosis-specific corrections and scoliosis-specific exercises to aid us in bringing our clients toward a more balanced system. \nThe scoliosis-specific exercises begin with corrections in the basic positions of prone\, supine\, side-lying\, seated\, and standing. Once the corrections are applied in the basic positions\, we add movement to these corrections either on the mat or with the assistance of the Pilates equipment. Come learn why Scolio-Pilates\, a form of Pilates that allows for modifications to assist the client with scoliosis in the Pilates studio\, is now being used by children’s hospitals\, physical therapy clinics\, and Pilates studios worldwide to help with the management of scoliosis. \n  \n 
URL:https://osteopilates.com/event/module-2-surabaya-indonesia-2/
LOCATION:Star Pilates Studio\, Jl. Barata Jaya XXI No.1 D\, Baratajaya\, Kec. Gubeng\, Surabaya\, Jawa Timur\, 60284\, Indonesia
CATEGORIES:Module 2
ATTACH;FMTTYPE=image/jpeg:https://osteopilates.com/wp-content/uploads/2024/02/firmpoint.jpeg
END:VEVENT
BEGIN:VEVENT
DTSTART;TZID=Asia/Krasnoyarsk:20260619T090000
DTEND;TZID=Asia/Krasnoyarsk:20260619T180000
DTSTAMP:20260424T151953
CREATED:20250130T031925Z
LAST-MODIFIED:20251117T220608Z
UID:31160-1781859600-1781892000@osteopilates.com
SUMMARY:Module 1: Ho Chi Minh City\, Vietnam
DESCRIPTION:  \nWelcome To Scolio-Pilates Module 1\n  \nInstructor: Lanel Hosomi\, Scolio-Pilates Principal Educator\nLocation: Ho Chi Minh City\, Vietnam\nDates: June 19\, 2026\nTimes: 9:00am to 6:00pm (local time)\nLanguage: English \n  \nThis course is a building block and lays the foundation for the Scolio-Pilates Module 2: The Professional Seminar. You will receive a strong base in the anatomy of scoliosis to help you understand what is happening under the skin that creates the changes we see and experience with scoliosis on the surface and with movement. With this understanding\, you will be better equipped to make the best scoliosis-specific exercise choices. Topics to be covered include: \n\nWhat is scoliosis? Who it affects and its effects on the systems of the body\nExperience scoliosis! What it feels like to do Pilates with scoliosis\nAnatomical understanding of the musculoskeletal changes that accompany the scoliosis syndrome\nUnderstanding functional vs. structural scoliosis\nDefining the convexities and concavities\nTheories and laws of movement that apply to scoliosis\nThe first 7 exercises for scoliosis. All exercises will be taught with and without the Pilates equipment.\n\n  \n 
URL:https://osteopilates.com/event/module-1-ho-chi-minh-city-vietnam-2/
LOCATION:Birr Pilates District 7\, 80 Street 19\, Riverside Residence\, District 7\, Ho Chi Minh City\, Viet Nam
CATEGORIES:Module 1
ATTACH;FMTTYPE=image/jpeg:https://osteopilates.com/wp-content/uploads/2021/01/Site-identity-scaled.jpg
END:VEVENT
BEGIN:VEVENT
DTSTART;TZID=Asia/Krasnoyarsk:20260620T091500
DTEND;TZID=Asia/Krasnoyarsk:20260621T181500
DTSTAMP:20260424T151953
CREATED:20250714T002910Z
LAST-MODIFIED:20251117T214953Z
UID:32187-1781946900-1782065700@osteopilates.com
SUMMARY:Module 2: Ho Chi Minh City\, Vietnam
DESCRIPTION:  \nWelcome To Scolio-Pilates Module 2\n  \nInstructor: Lanel Hosomi\, Scolio-Pilates Principal Educator\nLocation: Ho Chi Minh City\, Vietnam\nDates: June 20-21\, 2026\nTimes: 9:00am – 6:00pm (local time)\nLanguage: English \n  \nModule 2 builds upon the pre-requisite Module 1\, Scolio-Pilates Professional Seminar. \nWe will dive deeper into understanding the anatomy of scoliosis and use that understanding to define the curves of scoliosis (3\, 4\, and thoracolumbar curves). Once we define the curves we can begin to understand how to correct those curves toward neutral. We use scoliosis-specific corrections and scoliosis-specific exercises to aid us in bringing our clients toward a more balanced system. \nThe scoliosis-specific exercises begin with corrections in the basic positions of prone\, supine\, side-lying\, seated\, and standing. Once the corrections are applied in the basic positions\, we add movement to these corrections either on the mat or with the assistance of the Pilates equipment. Come learn why Scolio-Pilates\, a form of Pilates that allows for modifications to assist the client with scoliosis in the Pilates studio\, is now being used by children’s hospitals\, physical therapy clinics\, and Pilates studios worldwide to help with the management of scoliosis. \n  \n 
URL:https://osteopilates.com/event/module-2-ho-chi-minh-city-vietnam/
LOCATION:Birr Pilates District 7\, 80 Street 19\, Riverside Residence\, District 7\, Ho Chi Minh City\, Viet Nam
CATEGORIES:Module 2
ATTACH;FMTTYPE=image/jpeg:https://osteopilates.com/wp-content/uploads/2021/01/Site-identity-scaled.jpg
END:VEVENT
END:VCALENDAR