BEGIN:VCALENDAR
VERSION:2.0
PRODID:-//Scolio-Pilates - ECPv6.15.14//NONSGML v1.0//EN
CALSCALE:GREGORIAN
METHOD:PUBLISH
X-WR-CALNAME:Scolio-Pilates
X-ORIGINAL-URL:https://osteopilates.com
X-WR-CALDESC:Events for Scolio-Pilates
REFRESH-INTERVAL;VALUE=DURATION:PT1H
X-Robots-Tag:noindex
X-PUBLISHED-TTL:PT1H
BEGIN:VTIMEZONE
TZID:America/New_York
BEGIN:DAYLIGHT
TZOFFSETFROM:-0500
TZOFFSETTO:-0400
TZNAME:EDT
DTSTART:20230312T070000
END:DAYLIGHT
BEGIN:STANDARD
TZOFFSETFROM:-0400
TZOFFSETTO:-0500
TZNAME:EST
DTSTART:20231105T060000
END:STANDARD
BEGIN:DAYLIGHT
TZOFFSETFROM:-0500
TZOFFSETTO:-0400
TZNAME:EDT
DTSTART:20240310T070000
END:DAYLIGHT
BEGIN:STANDARD
TZOFFSETFROM:-0400
TZOFFSETTO:-0500
TZNAME:EST
DTSTART:20241103T060000
END:STANDARD
BEGIN:DAYLIGHT
TZOFFSETFROM:-0500
TZOFFSETTO:-0400
TZNAME:EDT
DTSTART:20250309T070000
END:DAYLIGHT
BEGIN:STANDARD
TZOFFSETFROM:-0400
TZOFFSETTO:-0500
TZNAME:EST
DTSTART:20251102T060000
END:STANDARD
END:VTIMEZONE
BEGIN:VTIMEZONE
TZID:Asia/Ho_Chi_Minh
BEGIN:STANDARD
TZOFFSETFROM:+0700
TZOFFSETTO:+0700
TZNAME:+07
DTSTART:20230101T000000
END:STANDARD
END:VTIMEZONE
BEGIN:VTIMEZONE
TZID:Asia/Jakarta
BEGIN:STANDARD
TZOFFSETFROM:+0700
TZOFFSETTO:+0700
TZNAME:WIB
DTSTART:20230101T000000
END:STANDARD
END:VTIMEZONE
BEGIN:VEVENT
DTSTART;TZID=America/New_York:20240726T090000
DTEND;TZID=America/New_York:20240728T180000
DTSTAMP:20260419T130432
CREATED:20240620T164220Z
LAST-MODIFIED:20240705T183527Z
UID:29709-1721984400-1722189600@osteopilates.com
SUMMARY:Module 2: Ho Chi Minh City\, Vietnam
DESCRIPTION:Welcome To Scolio-Pilates Module 2\nModule 2 builds upon the pre-requisite Module 1\, Scolio-Pilates Professional Seminar. \nWe will dive deeper into understanding the anatomy of scoliosis and use that understanding to define the curves of scoliosis (3\, 4\, and thoracolumbar curves). Once we define the curves we can begin to understand how to correct those curves toward neutral. We use scoliosis-specific corrections and scoliosis-specific exercises to aid us in bringing our clients toward a more balanced system. \nThe scoliosis-specific exercises begin with corrections in the basic positions of prone\, supine\, side-lying\, seated\, and standing. Once the corrections are applied in the basic positions\, we add movement to these corrections either on the mat or with the assistance of the Pilates equipment. Come learn why Scolio-Pilates\, a form of Pilates that allows for modifications to assist the client with scoliosis in the Pilates studio\, is now being used by children’s hospitals\, physical therapy clinics\, and Pilates studios worldwide to help with the management of scoliosis. \nInstructor: Sansan The\, Scolio-Pilates Principal Educator
URL:https://osteopilates.com/event/module-2-ho-ch-minh-vietnam/
LOCATION:Ho Chi Minh City\, Viet Nam
CATEGORIES:Module 2
ATTACH;FMTTYPE=image/jpeg:https://osteopilates.com/wp-content/uploads/2021/02/Firmpoint-square.jpg
END:VEVENT
BEGIN:VEVENT
DTSTART;TZID=America/New_York:20240720T090000
DTEND;TZID=America/New_York:20240721T180000
DTSTAMP:20260419T130432
CREATED:20240619T175056Z
LAST-MODIFIED:20240705T183721Z
UID:29702-1721466000-1721584800@osteopilates.com
SUMMARY:Module 2: Jakarta\, Indonesia
DESCRIPTION:Welcome To Scolio-Pilates Module 2\nModule 2 builds upon the pre-requisite Module 1\, Scolio-Pilates Professional Seminar. \nWe will dive deeper into understanding the anatomy of scoliosis and use that understanding to define the curves of scoliosis (3\, 4\, and thoracolumbar curves). Once we define the curves we can begin to understand how to correct those curves toward neutral. We use scoliosis-specific corrections and scoliosis-specific exercises to aid us in bringing our clients toward a more balanced system. \nThe scoliosis-specific exercises begin with corrections in the basic positions of prone\, supine\, side-lying\, seated\, and standing. Once the corrections are applied in the basic positions\, we add movement to these corrections either on the mat or with the assistance of the Pilates equipment. Come learn why Scolio-Pilates\, a form of Pilates that allows for modifications to assist the client with scoliosis in the Pilates studio\, is now being used by children’s hospitals\, physical therapy clinics\, and Pilates studios worldwide to help with the management of scoliosis. \nInstructor: Sansan The\, Scolio-Pilates Principal Educator \nLocation: Akademi Pilates Indonesia\, Jl. Bendungan Hilir No. 116\, Jakarta Pusat\, Indonesia
URL:https://osteopilates.com/event/module-2-jakarta-indonesia/
LOCATION:Akademi Pilates Indonesia\, Jakarta\, Indonesia
CATEGORIES:Module 2
ATTACH;FMTTYPE=image/jpeg:https://osteopilates.com/wp-content/uploads/2021/02/Firmpoint-square.jpg
END:VEVENT
BEGIN:VEVENT
DTSTART;TZID=Asia/Ho_Chi_Minh:20240720T090000
DTEND;TZID=Asia/Ho_Chi_Minh:20240721T130000
DTSTAMP:20260419T130432
CREATED:20240617T183038Z
LAST-MODIFIED:20240705T184046Z
UID:29685-1721466000-1721566800@osteopilates.com
SUMMARY:Module 1: Ho Chi Minh City\, Vietnam
DESCRIPTION:Welcome To Scolio-Pilates Module 1\nThis course is a building block and lays the foundation for the Scolio-Pilates Module 2: The Professional Seminar. You will receive a strong base in the anatomy of scoliosis to help you understand what is happening under the skin that creates the changes we see and experience with scoliosis on the surface and with movement. With this understanding\, you will be better equipped to make the best scoliosis-specific exercise choices. Topics to be covered include: \n\nWhat is scoliosis? Who it affects and its effects on the systems of the body\nExperience scoliosis! What it feels like to do Pilates with scoliosis\nAnatomy of Scoliosis\nUnderstanding functional vs. structural scoliosis\nDefining the convexities and concavities\nTheories and laws of movement that apply to scoliosis\nThe first 7 exercises for scoliosis\n\n  \n 
URL:https://osteopilates.com/event/module-1-ho-chi-minh-city-vietnam/
LOCATION:Ho Chi Minh City\, Viet Nam
CATEGORIES:Module 1
ATTACH;FMTTYPE=image/jpeg:https://osteopilates.com/wp-content/uploads/2021/01/Site-identity-scaled.jpg
END:VEVENT
BEGIN:VEVENT
DTSTART;TZID=Asia/Jakarta:20240719T090000
DTEND;TZID=Asia/Jakarta:20240719T180000
DTSTAMP:20260419T130432
CREATED:20240617T182148Z
LAST-MODIFIED:20240705T184331Z
UID:29676-1721379600-1721412000@osteopilates.com
SUMMARY:Module 1: Jakarta\, Indonesia
DESCRIPTION:Welcome To Scolio-Pilates Module 1\nThis course is a building block and lays the foundation for the Scolio-Pilates Module 2: The Professional Seminar. You will receive a strong base in the anatomy of scoliosis to help you understand what is happening under the skin that creates the changes we see and experience with scoliosis on the surface and with movement. With this understanding\, you will be better equipped to make the best scoliosis-specific exercise choices. Topics to be covered include: \n\nWhat is scoliosis? Who it affects and its effects on the systems of the body\nExperience scoliosis! What it feels like to do Pilates with scoliosis\nAnatomy of Scoliosis\nUnderstanding functional vs structural scoliosis\nDefining the convexities and concavities\nTheories and laws of movement that apply to scoliosis\nThe first 7 exercises for scoliosis\n\nInstructor: Sansan The\, Scolio-Pilates Principal Educator \nLocation: Akademi Pilates Indonesia\, Jl. Bendungan Hilir No. 116
URL:https://osteopilates.com/event/module-1-jakarta-indonesia/
LOCATION:Akademi Pilates Indonesia\, Jakarta\, Indonesia
CATEGORIES:Module 1
ATTACH;FMTTYPE=image/jpeg:https://osteopilates.com/wp-content/uploads/2021/02/Firmpoint-square.jpg
END:VEVENT
END:VCALENDAR