BEGIN:VCALENDAR
VERSION:2.0
PRODID:-//Scolio-Pilates - ECPv6.15.14//NONSGML v1.0//EN
CALSCALE:GREGORIAN
METHOD:PUBLISH
X-ORIGINAL-URL:https://osteopilates.com
X-WR-CALDESC:Events for Scolio-Pilates
REFRESH-INTERVAL;VALUE=DURATION:PT1H
X-Robots-Tag:noindex
X-PUBLISHED-TTL:PT1H
BEGIN:VTIMEZONE
TZID:Asia/Tokyo
BEGIN:STANDARD
TZOFFSETFROM:+0900
TZOFFSETTO:+0900
TZNAME:JST
DTSTART:20250101T000000
END:STANDARD
END:VTIMEZONE
BEGIN:VTIMEZONE
TZID:Europe/Berlin
BEGIN:DAYLIGHT
TZOFFSETFROM:+0100
TZOFFSETTO:+0200
TZNAME:CEST
DTSTART:20250330T010000
END:DAYLIGHT
BEGIN:STANDARD
TZOFFSETFROM:+0200
TZOFFSETTO:+0100
TZNAME:CET
DTSTART:20251026T010000
END:STANDARD
BEGIN:DAYLIGHT
TZOFFSETFROM:+0100
TZOFFSETTO:+0200
TZNAME:CEST
DTSTART:20260329T010000
END:DAYLIGHT
BEGIN:STANDARD
TZOFFSETFROM:+0200
TZOFFSETTO:+0100
TZNAME:CET
DTSTART:20261025T010000
END:STANDARD
BEGIN:DAYLIGHT
TZOFFSETFROM:+0100
TZOFFSETTO:+0200
TZNAME:CEST
DTSTART:20270328T010000
END:DAYLIGHT
BEGIN:STANDARD
TZOFFSETFROM:+0200
TZOFFSETTO:+0100
TZNAME:CET
DTSTART:20271031T010000
END:STANDARD
END:VTIMEZONE
BEGIN:VTIMEZONE
TZID:America/Los_Angeles
BEGIN:DAYLIGHT
TZOFFSETFROM:-0800
TZOFFSETTO:-0700
TZNAME:PDT
DTSTART:20260308T100000
END:DAYLIGHT
BEGIN:STANDARD
TZOFFSETFROM:-0700
TZOFFSETTO:-0800
TZNAME:PST
DTSTART:20261101T090000
END:STANDARD
BEGIN:DAYLIGHT
TZOFFSETFROM:-0800
TZOFFSETTO:-0700
TZNAME:PDT
DTSTART:20270314T100000
END:DAYLIGHT
BEGIN:STANDARD
TZOFFSETFROM:-0700
TZOFFSETTO:-0800
TZNAME:PST
DTSTART:20271107T090000
END:STANDARD
BEGIN:DAYLIGHT
TZOFFSETFROM:-0800
TZOFFSETTO:-0700
TZNAME:PDT
DTSTART:20280312T100000
END:DAYLIGHT
BEGIN:STANDARD
TZOFFSETFROM:-0700
TZOFFSETTO:-0800
TZNAME:PST
DTSTART:20281105T090000
END:STANDARD
END:VTIMEZONE
BEGIN:VEVENT
DTSTART;TZID=Asia/Tokyo:20261114T090000
DTEND;TZID=Asia/Tokyo:20261115T183000
DTSTAMP:20260419T193610
CREATED:20260312T051029Z
LAST-MODIFIED:20260312T051029Z
UID:38663-1794646800-1794767400@osteopilates.com
SUMMARY:Module 2: Tokyo City\, Japan
DESCRIPTION:Welcome To Scolio-Pilates Module 2\n  \nInstructor:  Helen New\, Scolio-Pilates® Principal Educator\nDates:  November 14-15\, 2026\nLocation:  Tokyo\, Japan \nModule 2 builds upon the pre-requisite Module 1\, Scolio-Pilates Professional Seminar. \nWe will dive deeper into understanding the anatomy of scoliosis and use that understanding to define the curves of scoliosis (3\, 4\, and thoracolumbar curves). Once we define the curves\, we can begin to understand how to correct them towards neutral. We use scoliosis-specific corrections and exercises to aid us in bringing our clients toward a more balanced system. \nThe scoliosis-specific exercises begin with corrections in the basic positions of prone\, supine\, side-lying\, seated\, and standing. Once the corrections are applied in the basic positions\, we add movement to these corrections either on the mat or with the assistance of the Pilates equipment. Learn why Scolio-Pilates\, a form of Pilates that allows for modifications to assist the client with scoliosis in the Pilates studio\, is now being used by children’s hospitals\, physical therapy clinics\, and Pilates studios worldwide to help with the management of scoliosis. \nPDP APPROVED: PAA – 15 points \n 
URL:https://osteopilates.com/event/module-2-tokyo-city-japan/
LOCATION:Peach Pilates\, 169-0073 Tokyo\, Shinjuku City\, Hyakuninchō\, 1-chōme−19−
CATEGORIES:Module 2
ATTACH;FMTTYPE=image/png:https://osteopilates.com/wp-content/uploads/2019/11/Precision_Pilates_Windsor_Logo.png
END:VEVENT
BEGIN:VEVENT
DTSTART;VALUE=DATE:20261128
DTEND;VALUE=DATE:20261130
DTSTAMP:20260419T193610
CREATED:20260126T213820Z
LAST-MODIFIED:20260402T005718Z
UID:38222-1795824000-1795996799@osteopilates.com
SUMMARY:Module 2: Germany\, Germany
DESCRIPTION:Welcome To Scolio-Pilates Module 2\n  \n  \nInstructor: Julie Selwood\, Scolio-Pilates Principal Educator\nDates: 28-29 November 2026\nLocation: TBA\, Germany \n  \nTaught in English \nModule 2 builds upon the pre-requisite Module 1\, Scolio-Pilates Professional Seminar. \nWe will dive deeper into understanding the anatomy of scoliosis and use that understanding to define the curves of scoliosis (3\, 4\, and thoracolumbar curves). Once we define the curves we can begin to understand how to correct those curves toward neutral. We use scoliosis-specific corrections and scoliosis-specific exercises to aid us in bringing our clients toward a more balanced system. \nThe scoliosis-specific exercises begin with corrections in the basic positions of prone\, supine\, side-lying\, seated\, and standing. Once the corrections are applied in the basic positions\, we add movement to these corrections either on the mat or with the assistance of the Pilates equipment. Come learn why Scolio-Pilates\, a form of Pilates that allows for modifications to assist the client with scoliosis in the Pilates studio\, is now being used by children’s hospitals\, physical therapy clinics\, and Pilates studios worldwide to help with the management of scoliosis. \nCECs: 16 Continuing education credits from the National Pilates Certification Program (NPCP) \n  \n 
URL:https://osteopilates.com/event/module-2-germany-germany/
CATEGORIES:Module 2
ATTACH;FMTTYPE=image/jpeg:https://osteopilates.com/wp-content/uploads/2020/11/Scolio-Pilates-Europe.jpg
END:VEVENT
BEGIN:VEVENT
DTSTART;TZID=America/Los_Angeles:20270123T080000
DTEND;TZID=America/Los_Angeles:20270124T170000
DTSTAMP:20260419T193610
CREATED:20260401T224954Z
LAST-MODIFIED:20260401T224954Z
UID:38799-1800691200-1800810000@osteopilates.com
SUMMARY:Module 2: Botkins\, Ohio\, USA
DESCRIPTION:Welcome To Scolio-Pilates Module 2\n  \n  \nInstructor: Melissa Lee\, Scolio-Pilates Principal Educator\nLocation: Botkins\, Ohio\nDates: January 23-24\, 2027\nTimes: 8:00am – 5:00pm \n  \nModule 2 builds upon the pre-requisite Module 1\, Scolio-Pilates Professional Seminar. \nWe will dive deeper into understanding the anatomy of scoliosis and use that understanding to define the curves of scoliosis (3\, 4\, and thoracolumbar curves). Once we define the curves we can begin to understand how to correct those curves toward neutral. We use scoliosis-specific corrections and scoliosis-specific exercises to aid us in bringing our clients toward a more balanced system. \nThe scoliosis-specific exercises begin with corrections in the basic positions of prone\, supine\, side-lying\, seated\, and standing. Once the corrections are applied in the basic positions\, we add movement to these corrections either on the mat or with the assistance of the Pilates equipment. Come learn why Scolio-Pilates\, a form of Pilates that allows for modifications to assist the client with scoliosis in the Pilates studio\, is now being used by children’s hospitals\, physical therapy clinics\, and Pilates studios worldwide to help with the management of scoliosis. \n  \nCECs: 16 Continuing education credits from the National Pilates Certification Program (NPCP) \n 
URL:https://osteopilates.com/event/module-2-botkins-ohio-usa/
LOCATION:Pilates For Life\, 314 W. State St\, Botkins\, OH\, 45306\, United States
CATEGORIES:Module 2
ATTACH;FMTTYPE=image/png:https://osteopilates.com/wp-content/uploads/2026/04/Pilates-for-Life-Logo1.png
END:VEVENT
END:VCALENDAR