BEGIN:VCALENDAR
VERSION:2.0
PRODID:-//Scolio-Pilates - ECPv6.15.14//NONSGML v1.0//EN
CALSCALE:GREGORIAN
METHOD:PUBLISH
X-ORIGINAL-URL:https://osteopilates.com
X-WR-CALDESC:Events for Scolio-Pilates
REFRESH-INTERVAL;VALUE=DURATION:PT1H
X-Robots-Tag:noindex
X-PUBLISHED-TTL:PT1H
BEGIN:VTIMEZONE
TZID:Asia/Krasnoyarsk
BEGIN:STANDARD
TZOFFSETFROM:+0700
TZOFFSETTO:+0700
TZNAME:+07
DTSTART:20250101T000000
END:STANDARD
END:VTIMEZONE
BEGIN:VTIMEZONE
TZID:Australia/Melbourne
BEGIN:STANDARD
TZOFFSETFROM:+1100
TZOFFSETTO:+1000
TZNAME:AEST
DTSTART:20250405T160000
END:STANDARD
BEGIN:DAYLIGHT
TZOFFSETFROM:+1000
TZOFFSETTO:+1100
TZNAME:AEDT
DTSTART:20251004T160000
END:DAYLIGHT
BEGIN:STANDARD
TZOFFSETFROM:+1100
TZOFFSETTO:+1000
TZNAME:AEST
DTSTART:20260404T160000
END:STANDARD
BEGIN:DAYLIGHT
TZOFFSETFROM:+1000
TZOFFSETTO:+1100
TZNAME:AEDT
DTSTART:20261003T160000
END:DAYLIGHT
BEGIN:STANDARD
TZOFFSETFROM:+1100
TZOFFSETTO:+1000
TZNAME:AEST
DTSTART:20270403T160000
END:STANDARD
BEGIN:DAYLIGHT
TZOFFSETFROM:+1000
TZOFFSETTO:+1100
TZNAME:AEDT
DTSTART:20271002T160000
END:DAYLIGHT
END:VTIMEZONE
BEGIN:VTIMEZONE
TZID:Asia/Shanghai
BEGIN:STANDARD
TZOFFSETFROM:+0800
TZOFFSETTO:+0800
TZNAME:CST
DTSTART:20250101T000000
END:STANDARD
END:VTIMEZONE
BEGIN:VEVENT
DTSTART;TZID=Asia/Krasnoyarsk:20260710T143000
DTEND;TZID=Asia/Krasnoyarsk:20260718T183000
DTSTAMP:20260424T235905
CREATED:20251023T032631Z
LAST-MODIFIED:20260403T224120Z
UID:32888-1783693800-1784399400@osteopilates.com
SUMMARY:Module 2: Live Online\, Vietnam in English
DESCRIPTION:  \nWelcome To Scolio-Pilates® Module 2\n  \nInstructor: Lanel Hosomi\, Scolio-Pilates® Principal Educator\nLocation: Live Online\nLanguage: Taught in English\nDates: July 10\, 11\, 17\, 18\, 2026\nTimes: 2:30pm – 6:30pm each day (GMT +7 Vietnam Time) \nModule 2 builds upon the pre-requisite Module 1\, Scolio-Pilates® Professional Seminar. \nWe will dive deeper into understanding the anatomy of scoliosis and use that understanding to define the curves of scoliosis (3\, 4\, and thoracolumbar curves). Once we define the curves we can begin to understand how to correct those curves toward neutral. We use scoliosis-specific corrections and scoliosis-specific exercises to aid us in bringing our clients toward a more balanced system. \nThe scoliosis-specific exercises begin with corrections in the basic positions of prone\, supine\, side-lying\, seated\, and standing. Once the corrections are applied in the basic positions\, we add movement to these corrections either on the mat or with the assistance of the Pilates equipment. Come learn why Scolio-Pilates®\, a form of Pilates that allows for modifications to assist the client with scoliosis in the Pilates studio\, is now being used by children’s hospitals\, physical therapy clinics\, and Pilates studios worldwide to help with the management of scoliosis. \n  \n 
URL:https://osteopilates.com/event/module-2-live-online-vietnam-in-english-2/
LOCATION:Online
CATEGORIES:Module 2,Online
ATTACH;FMTTYPE=image/jpeg:https://osteopilates.com/wp-content/uploads/2021/01/Site-identity-scaled.jpg
END:VEVENT
BEGIN:VEVENT
DTSTART;TZID=Australia/Melbourne:20260711T090000
DTEND;TZID=Australia/Melbourne:20260712T180000
DTSTAMP:20260424T235905
CREATED:20251203T040647Z
LAST-MODIFIED:20260415T234601Z
UID:35285-1783760400-1783879200@osteopilates.com
SUMMARY:Module 2: Brisbane\, Australia
DESCRIPTION:Welcome to Scolio-Pilates Module 2\n  \nInstructor:   Helen New\, Scolio-Pilates Principal Educator\nDates:  11th and 12th July 2026\nTimes:  9:00am – 6:00pm (AEST)\nLocation:  Movement Principle Pilates \nModule 2 builds upon the pre-requisite Module 1\, Scolio-Pilates Professional Seminar. \nWe will dive deeper into understanding the anatomy of scoliosis and use that understanding to define the curves of scoliosis (3\, 4\, and thoracolumbar curves). Once we define the curves\, we can begin to understand how to correct them towards neutral. We use scoliosis-specific corrections and exercises to aid us in bringing our clients toward a more balanced system. \nThe scoliosis-specific exercises begin with corrections in the basic positions of prone\, supine\, side-lying\, seated\, and standing. Once the corrections are applied in the basic positions\, we add movement to these corrections either on the mat or with the assistance of the Pilates equipment. Learn why Scolio-Pilates\, a form of Pilates that allows for modifications to assist the client with scoliosis in the Pilates studio\, is now being used by children’s hospitals\, physical therapy clinics\, and Pilates studios worldwide to help with the management of scoliosis. \nPDP APPROVED: PAA – 14 points \n 
URL:https://osteopilates.com/event/module-2-brisbane-australia/
LOCATION:Movement Principle Pilates\, Level 2\, 191 George Street\, Brisbane\, Australia
CATEGORIES:Module 2
ATTACH;FMTTYPE=image/png:https://osteopilates.com/wp-content/uploads/2022/10/Pilates-ITC-Logo.png
END:VEVENT
BEGIN:VEVENT
DTSTART;TZID=Asia/Shanghai:20260712T090000
DTEND;TZID=Asia/Shanghai:20260712T180000
DTSTAMP:20260424T235905
CREATED:20260126T195823Z
LAST-MODIFIED:20260129T182921Z
UID:38176-1783846800-1783879200@osteopilates.com
SUMMARY:Module 1: Kuala Lumpur\, Malaysia
DESCRIPTION:Welcome To Scolio-Pilates Module 1\n  \nInstructor: Sansan The\, Scolio-Pilates® Principal Educator\nLocation: Kuala Lumpur\, Malaysia\nDate: 12 July 2026 \nThis course is a building block and lays the foundation for the Scolio-Pilates Module 2: The Professional Seminar. You will receive a strong base in the anatomy of scoliosis to help you understand what is happening under the skin that creates the changes we see and experience with scoliosis on the surface and with movement. With this understanding\, you will be better equipped to make the best scoliosis-specific exercise choices. Topics to be covered include: \n\nWhat is scoliosis? Who it affects and its effects on the systems of the body\nExperience scoliosis! What it feels like to do Pilates with scoliosis\nAnatomical understanding of the musculoskeletal changes that accompany the scoliosis syndrome\nUnderstanding functional vs. structural scoliosis\nDefining the convexities and concavities\nTheories and laws of movement that apply to scoliosis\nThe first 7 exercises for scoliosis. All exercises will be taught with and without the Pilates equipment.\n\n  \n  \n 
URL:https://osteopilates.com/event/module-1-kuala-lumpur-malaysia-4/
LOCATION:Movement Lab\, Block C-03-08\, Aurora Plaza\, No. 1 Persiaran Jalil 1\, Bandar Bukit Jalil\, Kuala Lumpur\, 57000\, Malaysia
CATEGORIES:Module 1
ATTACH;FMTTYPE=image/jpeg:https://osteopilates.com/wp-content/uploads/2024/02/firmpoint.jpeg
END:VEVENT
END:VCALENDAR