BEGIN:VCALENDAR
VERSION:2.0
PRODID:-//Scolio-Pilates - ECPv6.15.14//NONSGML v1.0//EN
CALSCALE:GREGORIAN
METHOD:PUBLISH
X-WR-CALNAME:Scolio-Pilates
X-ORIGINAL-URL:https://osteopilates.com
X-WR-CALDESC:Events for Scolio-Pilates
REFRESH-INTERVAL;VALUE=DURATION:PT1H
X-Robots-Tag:noindex
X-PUBLISHED-TTL:PT1H
BEGIN:VTIMEZONE
TZID:America/New_York
BEGIN:DAYLIGHT
TZOFFSETFROM:-0500
TZOFFSETTO:-0400
TZNAME:EDT
DTSTART:20250309T070000
END:DAYLIGHT
BEGIN:STANDARD
TZOFFSETFROM:-0400
TZOFFSETTO:-0500
TZNAME:EST
DTSTART:20251102T060000
END:STANDARD
BEGIN:DAYLIGHT
TZOFFSETFROM:-0500
TZOFFSETTO:-0400
TZNAME:EDT
DTSTART:20260308T070000
END:DAYLIGHT
BEGIN:STANDARD
TZOFFSETFROM:-0400
TZOFFSETTO:-0500
TZNAME:EST
DTSTART:20261101T060000
END:STANDARD
BEGIN:DAYLIGHT
TZOFFSETFROM:-0500
TZOFFSETTO:-0400
TZNAME:EDT
DTSTART:20270314T070000
END:DAYLIGHT
BEGIN:STANDARD
TZOFFSETFROM:-0400
TZOFFSETTO:-0500
TZNAME:EST
DTSTART:20271107T060000
END:STANDARD
END:VTIMEZONE
BEGIN:VTIMEZONE
TZID:Australia/Melbourne
BEGIN:STANDARD
TZOFFSETFROM:+1100
TZOFFSETTO:+1000
TZNAME:AEST
DTSTART:20250405T160000
END:STANDARD
BEGIN:DAYLIGHT
TZOFFSETFROM:+1000
TZOFFSETTO:+1100
TZNAME:AEDT
DTSTART:20251004T160000
END:DAYLIGHT
BEGIN:STANDARD
TZOFFSETFROM:+1100
TZOFFSETTO:+1000
TZNAME:AEST
DTSTART:20260404T160000
END:STANDARD
BEGIN:DAYLIGHT
TZOFFSETFROM:+1000
TZOFFSETTO:+1100
TZNAME:AEDT
DTSTART:20261003T160000
END:DAYLIGHT
BEGIN:STANDARD
TZOFFSETFROM:+1100
TZOFFSETTO:+1000
TZNAME:AEST
DTSTART:20270403T160000
END:STANDARD
BEGIN:DAYLIGHT
TZOFFSETFROM:+1000
TZOFFSETTO:+1100
TZNAME:AEDT
DTSTART:20271002T160000
END:DAYLIGHT
END:VTIMEZONE
BEGIN:VEVENT
DTSTART;TZID=America/New_York:20260327T090000
DTEND;TZID=America/New_York:20260327T180000
DTSTAMP:20260424T163937
CREATED:20240711T042843Z
LAST-MODIFIED:20260301T051131Z
UID:30250-1774602000-1774634400@osteopilates.com
SUMMARY:Module 1: Athens\, Greece
DESCRIPTION:or buy Modules 1&2 as a Bundle – HERE \nWelcome To Scolio-Pilates Module 1\n  \nInstructor: Karena Thek\, Founder of Scolio-Pilates®\nLocation: In-Person – Athens\, Greece\nDate: March 27\, 2026\nTime: 9:00am – 6:00pm Eastern European Standard Time (EET) \n  \nThis course is a building block and lays the foundation for the Scolio-Pilates® Module 2: The Professional Seminar. You will receive a strong base in the anatomy of scoliosis to help you understand what is happening under the skin that creates the changes we see and experience with scoliosis on the surface and with movement. With this understanding\, you will be better equipped to make the best scoliosis-specific exercise choices. Topics to be covered include: \n\nWhat is scoliosis? Who it affects and its effects on the systems of the body\nExperience scoliosis! What it feels like to do Pilates with scoliosis\nAnatomical understanding of the musculoskeletal changes that accompany the scoliosis syndrome\nUnderstanding functional vs. structural scoliosis\nDefining the convexities and concavities\nTheories and laws of movement that apply to scoliosis\nThe first 7 exercises for scoliosis. All exercises will be taught with and without the Pilates equipment.\n\nCECs: 8 Continuing education credits from the National Pilates Certification Program (NPCP) \n 
URL:https://osteopilates.com/event/module-1-athens-greece/
LOCATION:Pilates 15\, 15 Tatoïou str.\, Kifissia\, Athens\, 14561\, Greece
CATEGORIES:Module 1
ATTACH;FMTTYPE=image/jpeg:https://osteopilates.com/wp-content/uploads/2024/05/smallPilates15-FinalLogo-RGB-inverted-Αντίγραφο.jpg
END:VEVENT
BEGIN:VEVENT
DTSTART;TZID=Australia/Melbourne:20260327T090000
DTEND;TZID=Australia/Melbourne:20260327T180000
DTSTAMP:20260424T163937
CREATED:20251215T185228Z
LAST-MODIFIED:20251215T185428Z
UID:36835-1774602000-1774634400@osteopilates.com
SUMMARY:Module 1: Melbourne\, Australia
DESCRIPTION:Welcome To Scolio-Pilates Module 1\n  \n  \nInstructor:  Helen New\, Scolio-Pilates Principal Educator\nDate:  Friday 27th March 2026\nTime:  9:00am – 6:00pm (AEDT)\nLocation:  Windsor Studio\, Melbourne\, Australia \nThis course is a building block and lays the foundation for the Scolio-Pilates Module 2: The Professional Seminar. You will receive a strong base in the anatomy of scoliosis to help you understand what is happening under the skin that creates the changes we see and experience with scoliosis on the surface and with movement. With this understanding\, you will be better equipped to make the best scoliosis-specific exercise choices. Topics to be covered include: \n\nWhat is scoliosis? Who it affects and its effects on the systems of the body\nExperience scoliosis! What it feels like to do Pilates with scoliosis\nAnatomical understanding of the musculoskeletal changes that accompany the scoliosis syndrome\nUnderstanding functional vs. structural scoliosis\nDefining the convexities and concavities\nTheories and laws of movement that apply to scoliosis\nThe first 7 exercises for scoliosis. All exercises will be taught with and without the Pilates equipment.\n\nPDP APPROVED: PAA – 8 points \n 
URL:https://osteopilates.com/event/module-1-melbourne-australia-4/
LOCATION:Precision Pilates Windsor\, 5/40 Green Street\, Melbourne\, Australia
CATEGORIES:Module 1
ATTACH;FMTTYPE=image/png:https://osteopilates.com/wp-content/uploads/2019/11/Precision_Pilates_Windsor_Logo.png
END:VEVENT
END:VCALENDAR