BEGIN:VCALENDAR
VERSION:2.0
PRODID:-//Scolio-Pilates - ECPv6.15.14//NONSGML v1.0//EN
CALSCALE:GREGORIAN
METHOD:PUBLISH
X-WR-CALNAME:Scolio-Pilates
X-ORIGINAL-URL:https://osteopilates.com
X-WR-CALDESC:Events for Scolio-Pilates
REFRESH-INTERVAL;VALUE=DURATION:PT1H
X-Robots-Tag:noindex
X-PUBLISHED-TTL:PT1H
BEGIN:VTIMEZONE
TZID:Australia/Perth
BEGIN:STANDARD
TZOFFSETFROM:+0800
TZOFFSETTO:+0800
TZNAME:AWST
DTSTART:20250101T000000
END:STANDARD
END:VTIMEZONE
BEGIN:VEVENT
DTSTART;TZID=Australia/Perth:20260801T090000
DTEND;TZID=Australia/Perth:20260802T180000
DTSTAMP:20260424T145814
CREATED:20251204T022318Z
LAST-MODIFIED:20260415T234834Z
UID:35392-1785574800-1785693600@osteopilates.com
SUMMARY:Module 2: Perth\, Australia
DESCRIPTION:Welcome to Scolio-Pilates Module 2\n  \nInstructor:   Helen New\, Scolio-Pilates Principal Educator\nDates:  Saturday 1st August and Sunday 2nd August 2026\nTimes:  9:00am – 6:00pm (AWST)\nLocation:  Pilates Fitness Institute\, Perth\, Western Australia \n  \nModule 2 builds upon the pre-requisite Module 1\, Scolio-Pilates Professional Seminar. \nWe will dive deeper into understanding the anatomy of scoliosis and use that understanding to define the curves of scoliosis (3\, 4\, and thoracolumbar curves). Once we define the curves\, we can begin to understand how to correct them towards neutral. We use scoliosis-specific corrections and exercises to aid us in bringing our clients toward a more balanced system. \nThe scoliosis-specific exercises begin with corrections in the basic positions of prone\, supine\, side-lying\, seated\, and standing. Once the corrections are applied in the basic positions\, we add movement to these corrections either on the mat or with the assistance of the Pilates equipment. Learn why Scolio-Pilates\, a form of Pilates that allows for modifications to assist the client with scoliosis in the Pilates studio\, is now being used by children’s hospitals\, physical therapy clinics\, and Pilates studios worldwide to help with the management of scoliosis. \nPDP APPROVED: PAA – 14 points \n 
URL:https://osteopilates.com/event/module-2-perth-australia/
LOCATION:Pilates Fitness Institute\, 9a/248 Leach Highway\, Myaree\,\, Perth\, Australia
CATEGORIES:Module 2
ATTACH;FMTTYPE=image/png:https://osteopilates.com/wp-content/uploads/2022/10/Pilates-ITC-Logo.png
END:VEVENT
END:VCALENDAR