BEGIN:VCALENDAR
VERSION:2.0
PRODID:-//Scolio-Pilates - ECPv6.15.14//NONSGML v1.0//EN
CALSCALE:GREGORIAN
METHOD:PUBLISH
X-WR-CALNAME:Scolio-Pilates
X-ORIGINAL-URL:https://osteopilates.com
X-WR-CALDESC:Events for Scolio-Pilates
REFRESH-INTERVAL;VALUE=DURATION:PT1H
X-Robots-Tag:noindex
X-PUBLISHED-TTL:PT1H
BEGIN:VTIMEZONE
TZID:Asia/Shanghai
BEGIN:STANDARD
TZOFFSETFROM:+0800
TZOFFSETTO:+0800
TZNAME:CST
DTSTART:20240101T000000
END:STANDARD
END:VTIMEZONE
BEGIN:VEVENT
DTSTART;TZID=Asia/Shanghai:20250927T090000
DTEND;TZID=Asia/Shanghai:20250928T180000
DTSTAMP:20260424T181137
CREATED:20250514T234646Z
LAST-MODIFIED:20250518T191531Z
UID:31693-1758963600-1759082400@osteopilates.com
SUMMARY:Module 2: Kuala Lumpur\, Malaysia
DESCRIPTION:To Register:\nInstagram: @onespacewellness\nAmber at WhatsApp +60 10 236 6606\n\nWelcome To Scolio-Pilates Module 2\n  \nInstructor: San San The\, Scolio-Pilates Principal Educator\nLocation: One Space Wellness\, Kuala Lumpur\, Malaysia\nDates: 27-28 September 2025 \n  \nModule 2 builds upon the pre-requisite Module 1\, Scolio-Pilates Professional Seminar. \nWe will dive deeper into understanding the anatomy of scoliosis and use that understanding to define the curves of scoliosis (3\, 4\, and thoracolumbar curves). Once we define the curves we can begin to understand how to correct those curves toward neutral. We use scoliosis-specific corrections and scoliosis-specific exercises to aid us in bringing our clients toward a more balanced system. \nThe scoliosis-specific exercises begin with corrections in the basic positions of prone\, supine\, side-lying\, seated\, and standing. Once the corrections are applied in the basic positions\, we add movement to these corrections either on the mat or with the assistance of the Pilates equipment. Come learn why Scolio-Pilates\, a form of Pilates that allows for modifications to assist the client with scoliosis in the Pilates studio\, is now being used by children’s hospitals\, physical therapy clinics\, and Pilates studios worldwide to help with the management of scoliosis. \n  \n 
URL:https://osteopilates.com/event/module-2-kuala-lumpur-malaysia-2/
LOCATION:One Space Wellness\, 8-2 Jalan Wangsa Delima 10\, Wangsa Maju\, Kuala Lumpur\, Malaysia
CATEGORIES:Module 2
ATTACH;FMTTYPE=image/jpeg:https://osteopilates.com/wp-content/uploads/2024/02/firmpoint.jpeg
END:VEVENT
END:VCALENDAR