BEGIN:VCALENDAR
VERSION:2.0
PRODID:-//Scolio-Pilates - ECPv6.15.14//NONSGML v1.0//EN
CALSCALE:GREGORIAN
METHOD:PUBLISH
X-WR-CALNAME:Scolio-Pilates
X-ORIGINAL-URL:https://osteopilates.com
X-WR-CALDESC:Events for Scolio-Pilates
REFRESH-INTERVAL;VALUE=DURATION:PT1H
X-Robots-Tag:noindex
X-PUBLISHED-TTL:PT1H
BEGIN:VTIMEZONE
TZID:Asia/Jakarta
BEGIN:STANDARD
TZOFFSETFROM:+0700
TZOFFSETTO:+0700
TZNAME:WIB
DTSTART:20240101T000000
END:STANDARD
END:VTIMEZONE
BEGIN:VEVENT
DTSTART;TZID=Asia/Jakarta:20251108T090000
DTEND;TZID=Asia/Jakarta:20251109T180000
DTSTAMP:20260424T164145
CREATED:20250514T231901Z
LAST-MODIFIED:20251006T035625Z
UID:31673-1762592400-1762711200@osteopilates.com
SUMMARY:Module 2: Jakarta\, Indonesia
DESCRIPTION:Welcome To Scolio-Pilates Module 2\n  \nInstructor: Tirta Hidajat\, Scolio-Pilates Principal Educator\nDates: 8-9 November 2025\nLocation: Synergy Studio\, Jakarta\, Indonesia \n  \nModule 2 builds upon the pre-requisite Module 1\, Scolio-Pilates Professional Seminar. \nWe will dive deeper into understanding the anatomy of scoliosis and use that understanding to define the curves of scoliosis (3\, 4\, and thoracolumbar curves). Once we define the curves we can begin to understand how to correct those curves toward neutral. We use scoliosis-specific corrections and scoliosis-specific exercises to aid us in bringing our clients toward a more balanced system. \nThe scoliosis-specific exercises begin with corrections in the basic positions of prone\, supine\, side-lying\, seated\, and standing. Once the corrections are applied in the basic positions\, we add movement to these corrections either on the mat or with the assistance of the Pilates equipment. Come learn why Scolio-Pilates\, a form of Pilates that allows for modifications to assist the client with scoliosis in the Pilates studio\, is now being used by children’s hospitals\, physical therapy clinics\, and Pilates studios worldwide to help with the management of scoliosis. \n  \n 
URL:https://osteopilates.com/event/module-2-jakarta-indonesia-5/
LOCATION:Synergy Studio Jakarta\, Indonesia
CATEGORIES:Module 2
ATTACH;FMTTYPE=image/jpeg:https://osteopilates.com/wp-content/uploads/2024/02/firmpoint.jpeg
END:VEVENT
END:VCALENDAR