BEGIN:VCALENDAR
VERSION:2.0
PRODID:-//Scolio-Pilates - ECPv6.15.14//NONSGML v1.0//EN
CALSCALE:GREGORIAN
METHOD:PUBLISH
X-WR-CALNAME:Scolio-Pilates
X-ORIGINAL-URL:https://osteopilates.com
X-WR-CALDESC:Events for Scolio-Pilates
REFRESH-INTERVAL;VALUE=DURATION:PT1H
X-Robots-Tag:noindex
X-PUBLISHED-TTL:PT1H
BEGIN:VTIMEZONE
TZID:America/New_York
BEGIN:DAYLIGHT
TZOFFSETFROM:-0500
TZOFFSETTO:-0400
TZNAME:EDT
DTSTART:20240310T070000
END:DAYLIGHT
BEGIN:STANDARD
TZOFFSETFROM:-0400
TZOFFSETTO:-0500
TZNAME:EST
DTSTART:20241103T060000
END:STANDARD
BEGIN:DAYLIGHT
TZOFFSETFROM:-0500
TZOFFSETTO:-0400
TZNAME:EDT
DTSTART:20250309T070000
END:DAYLIGHT
BEGIN:STANDARD
TZOFFSETFROM:-0400
TZOFFSETTO:-0500
TZNAME:EST
DTSTART:20251102T060000
END:STANDARD
BEGIN:DAYLIGHT
TZOFFSETFROM:-0500
TZOFFSETTO:-0400
TZNAME:EDT
DTSTART:20260308T070000
END:DAYLIGHT
BEGIN:STANDARD
TZOFFSETFROM:-0400
TZOFFSETTO:-0500
TZNAME:EST
DTSTART:20261101T060000
END:STANDARD
END:VTIMEZONE
BEGIN:VEVENT
DTSTART;TZID=America/New_York:20250531T091500
DTEND;TZID=America/New_York:20250601T181500
DTSTAMP:20260425T114132
CREATED:20250327T024613Z
LAST-MODIFIED:20250327T033625Z
UID:31417-1748682900-1748801700@osteopilates.com
SUMMARY:Module 2: Hochiminh City\, Vietnam
DESCRIPTION:  \nWelcome To Scolio-Pilates Module 2\n  \nInstructor: Lanel Hosomi\, Scolio-Pilates Principal Educator\nLocation: Hochiminh City\, Vietnam\nDates: 31st May – 1st June 2025 (2 days) \nModule 2 builds upon the pre-requisite Module 1\, Scolio-Pilates Professional Seminar. \nWe will dive deeper into understanding the anatomy of scoliosis and use that understanding to define the curves of scoliosis (3\, 4\, and thoracolumbar curves). Once we define the curves we can begin to understand how to correct those curves toward neutral. We use scoliosis-specific corrections and scoliosis-specific exercises to aid us in bringing our clients toward a more balanced system. \nThe scoliosis-specific exercises begin with corrections in the basic positions of prone\, supine\, side-lying\, seated\, and standing. Once the corrections are applied in the basic positions\, we add movement to these corrections either on the mat or with the assistance of the Pilates equipment. Come learn why Scolio-Pilates\, a form of Pilates that allows for modifications to assist the client with scoliosis in the Pilates studio\, is now being used by children’s hospitals\, physical therapy clinics\, and Pilates studios worldwide to help with the management of scoliosis. \n  \n 
URL:https://osteopilates.com/event/module-2-hochiminh-city-vietnam/
LOCATION:Birr Pilates\, 235 Nguyen Van Huong\, Lily Residence\, Thao Dien\, District 2\, Hochiminh City\, Viet Nam
CATEGORIES:Module 2
ATTACH;FMTTYPE=image/jpeg:https://osteopilates.com/wp-content/uploads/2021/01/Site-identity-scaled.jpg
END:VEVENT
END:VCALENDAR