BEGIN:VCALENDAR
VERSION:2.0
PRODID:-//Scolio-Pilates - ECPv6.15.14//NONSGML v1.0//EN
CALSCALE:GREGORIAN
METHOD:PUBLISH
X-WR-CALNAME:Scolio-Pilates
X-ORIGINAL-URL:https://osteopilates.com
X-WR-CALDESC:Events for Scolio-Pilates
REFRESH-INTERVAL;VALUE=DURATION:PT1H
X-Robots-Tag:noindex
X-PUBLISHED-TTL:PT1H
BEGIN:VTIMEZONE
TZID:Europe/Moscow
BEGIN:STANDARD
TZOFFSETFROM:+0300
TZOFFSETTO:+0300
TZNAME:MSK
DTSTART:20240101T000000
END:STANDARD
END:VTIMEZONE
BEGIN:VEVENT
DTSTART;TZID=Europe/Moscow:20251102T090000
DTEND;TZID=Europe/Moscow:20251103T180000
DTSTAMP:20260424T163743
CREATED:20250919T032909Z
LAST-MODIFIED:20250919T043220Z
UID:32460-1762074000-1762192800@osteopilates.com
SUMMARY:Module 2: Ankara\, Turkey
DESCRIPTION:Welcome To Scolio-Pilates® Module 2\n  \n  \nInstructor: Sibel Yildiz Pehlivan\, Authorized Scolio-Pilates® Educator\nLocation: Ankara\, Turkey\nDates: November 2-3\, 2025\nTimes: 9:00am – 6:00pm \nModule 2 builds upon the pre-requisite Module 1\, Scolio-Pilates® Professional Seminar. \nWe will dive deeper into understanding the anatomy of scoliosis and use that understanding to define the curves of scoliosis (3\, 4\, and thoracolumbar curves). Once we define the curves we can begin to understand how to correct those curves toward neutral. We use scoliosis-specific corrections and scoliosis-specific exercises to aid us in bringing our clients toward a more balanced system. \nThe scoliosis-specific exercises begin with corrections in the basic positions of prone\, supine\, side-lying\, seated\, and standing. Once the corrections are applied in the basic positions\, we add movement to these corrections either on the mat or with the assistance of the Pilates equipment. Come learn why Scolio-Pilates®\, a form of Pilates that allows for modifications to assist the client with scoliosis in the Pilates studio\, is now being used by children’s hospitals\, physical therapy clinics\, and Pilates studios worldwide to help with the management of scoliosis. \nCECs: 16 Continuing education credits from the National Pilates Certification Program (NPCP) \n  \nTurkish Translation: \nModül 2\nTarih: 2-3 Kasım\n\nSaat: 09.00-18.00 \n\n\nModül 2\, ön koşul olan Modül 1\, Scolio-Pilates® Profesyonel Semineri üzerine inşa edilmiştir. \n\n\nSkolyoz anatomisini daha derinlemesine anlayacağız ve bu anlayışı skolyoz eğrilerini (3\, 4 ve torakolomber eğriler) tanımlamak için kullanacağız.\n Eğrileri tanımladıktan sonra\, bu eğrileri nötrale doğru nasıl düzelteceğimizi anlamaya başlayabiliriz.\n\n Hastalarımızı daha dengeli bir sisteme ulaştırmada bize yardımcı olması için skolyoza özgü düzeltmeler ve skolyoza özgü egzersizler kullanıyoruz. \n\n\nSkolyoza özgü egzersizler yüzüstü\, sırtüstü\, yan yatma\, oturma ve ayakta durma gibi temel pozisyonlarda düzeltmelerle başlar.\n Düzeltmeler temel pozisyonlarda uygulandıktan sonra\, bu düzeltmelere mat üzerinde veya Pilates ekipmanının yardımıyla hareket ekliyoruz.\n\n Pilates stüdyosunda skolyozlu müşteriye yardımcı olmak için modifikasyonlara izin veren bir Pilates formu olan Scolio-Pilates®’in neden şu anda dünya çapında çocuk hastaneleri\, fizik tedavi klinikleri ve Pilates stüdyoları tarafından skolyoz yönetimine yardımcı olmak için kullanıldığını öğrenin. \n\n\n\nCEC’ler: Ulusal Pilates Sertifikasyon Programı’ndan (NPCP) 16 Sürekli eğitim kredisi
URL:https://osteopilates.com/event/module-2-ankara-turkey/
CATEGORIES:Module 2
ATTACH;FMTTYPE=image/png:https://osteopilates.com/wp-content/uploads/2024/11/egzerfiz_logo.png
END:VEVENT
END:VCALENDAR