BEGIN:VCALENDAR
VERSION:2.0
PRODID:-//Scolio-Pilates - ECPv6.15.14//NONSGML v1.0//EN
CALSCALE:GREGORIAN
METHOD:PUBLISH
X-WR-CALNAME:Scolio-Pilates
X-ORIGINAL-URL:https://osteopilates.com
X-WR-CALDESC:Events for Scolio-Pilates
REFRESH-INTERVAL;VALUE=DURATION:PT1H
X-Robots-Tag:noindex
X-PUBLISHED-TTL:PT1H
BEGIN:VTIMEZONE
TZID:Asia/Shanghai
BEGIN:STANDARD
TZOFFSETFROM:+0800
TZOFFSETTO:+0800
TZNAME:CST
DTSTART:20250101T000000
END:STANDARD
END:VTIMEZONE
BEGIN:VEVENT
DTSTART;TZID=Asia/Shanghai:20260227T090000
DTEND;TZID=Asia/Shanghai:20260227T180000
DTSTAMP:20260424T151952
CREATED:20251110T034743Z
LAST-MODIFIED:20251203T031708Z
UID:33070-1772182800-1772215200@osteopilates.com
SUMMARY:Module 1: Kuala Lumpur\, Malaysia
DESCRIPTION:Welcome To Scolio-Pilates Module 1\n  \nInstructor: Helen New\, Scolio-Pilates® Principal Educator\nLocation: One Space Wellness\, Kuala Lumpur\, Malaysia\nDate: 27th February 2026\nTimes: 9:00am – 6:00pm \nThis course is a building block and lays the foundation for the Scolio-Pilates Module 2: The Professional Seminar. You will receive a strong base in the anatomy of scoliosis to help you understand what is happening under the skin that creates the changes we see and experience with scoliosis on the surface and with movement. With this understanding\, you will be better equipped to make the best scoliosis-specific exercise choices. Topics to be covered include: \n\nWhat is scoliosis? Who it affects and its effects on the systems of the body\nExperience scoliosis! What it feels like to do Pilates with scoliosis\nAnatomical understanding of the musculoskeletal changes that accompany the scoliosis syndrome\nUnderstanding functional vs. structural scoliosis\nDefining the convexities and concavities\nTheories and laws of movement that apply to scoliosis\nThe first 7 exercises for scoliosis. All exercises will be taught with and without the Pilates equipment.\n\n  \n  \n 
URL:https://osteopilates.com/event/module-1-kuala-lumpur-malaysia-3/
LOCATION:One Space Wellness\, 8-2 Jalan Wangsa Delima 10\, Wangsa Maju\, Kuala Lumpur\, Malaysia
CATEGORIES:Module 1
ATTACH;FMTTYPE=image/jpeg:https://osteopilates.com/wp-content/uploads/2025/11/One-Space-Wellness.jpg
END:VEVENT
END:VCALENDAR