BEGIN:VCALENDAR
VERSION:2.0
PRODID:-//Scolio-Pilates - ECPv6.15.14//NONSGML v1.0//EN
CALSCALE:GREGORIAN
METHOD:PUBLISH
X-WR-CALNAME:Scolio-Pilates
X-ORIGINAL-URL:https://osteopilates.com
X-WR-CALDESC:Events for Scolio-Pilates
REFRESH-INTERVAL;VALUE=DURATION:PT1H
X-Robots-Tag:noindex
X-PUBLISHED-TTL:PT1H
BEGIN:VTIMEZONE
TZID:Asia/Jakarta
BEGIN:STANDARD
TZOFFSETFROM:+0700
TZOFFSETTO:+0700
TZNAME:WIB
DTSTART:20250101T000000
END:STANDARD
END:VTIMEZONE
BEGIN:VEVENT
DTSTART;TZID=Asia/Jakarta:20260501T090000
DTEND;TZID=Asia/Jakarta:20260501T180000
DTSTAMP:20260424T120234
CREATED:20250514T230605Z
LAST-MODIFIED:20260126T193641Z
UID:31665-1777626000-1777658400@osteopilates.com
SUMMARY:Module 1: Jakarta\, Indonesia
DESCRIPTION:Welcome To Scolio-Pilates Module 1\n  \nInstructor: Sansan The\, Scolio-Pilates® Principal Educator\nDate: 1 May 2026\nLocation: Jakarta\, Indonesia \nThis course is a building block and lays the foundation for the Scolio-Pilates Module 2: The Professional Seminar. You will receive a strong base in the anatomy of scoliosis to help you understand what is happening under the skin that creates the changes we see and experience with scoliosis on the surface and with movement. With this understanding\, you will be better equipped to make the best scoliosis-specific exercise choices. Topics to be covered include: \n\nWhat is scoliosis? Who it affects and its effects on the systems of the body\nExperience scoliosis! What it feels like to do Pilates with scoliosis\nAnatomical understanding of the musculoskeletal changes that accompany the scoliosis syndrome\nUnderstanding functional vs. structural scoliosis\nDefining the convexities and concavities\nTheories and laws of movement that apply to scoliosis\nThe first 7 exercises for scoliosis. All exercises will be taught with and without the Pilates equipment.\n\n  \n 
URL:https://osteopilates.com/event/module-1-jakarta-indonesia-5/
LOCATION:Core Control Studio\, Jakarta\, Indonesia
CATEGORIES:Module 1
ATTACH;FMTTYPE=image/jpeg:https://osteopilates.com/wp-content/uploads/2024/02/firmpoint.jpeg
END:VEVENT
END:VCALENDAR